BEGIN:VCALENDAR
VERSION:2.0
PRODID:-//The Bluffs Golf Course | South Zolfo Springs, FL - ECPv6.15.20//NONSGML v1.0//EN
CALSCALE:GREGORIAN
METHOD:PUBLISH
X-ORIGINAL-URL:https://www.thebluffsgolf.com
X-WR-CALDESC:Events for The Bluffs Golf Course | South Zolfo Springs, FL
REFRESH-INTERVAL;VALUE=DURATION:PT1H
X-Robots-Tag:noindex
X-PUBLISHED-TTL:PT1H
BEGIN:VTIMEZONE
TZID:UTC
BEGIN:STANDARD
TZOFFSETFROM:+0000
TZOFFSETTO:+0000
TZNAME:UTC
DTSTART:20230101T000000
END:STANDARD
END:VTIMEZONE
BEGIN:VEVENT
DTSTART;VALUE=DATE:20241231
DTEND;VALUE=DATE:20250101
DTSTAMP:20260419T130312
CREATED:20240930T212252Z
LAST-MODIFIED:20240930T212252Z
UID:2126-1735603200-1735689599@www.thebluffsgolf.com
SUMMARY:New Years Eve  (Pro Shop closes early at 1:00pm)
DESCRIPTION:
URL:https://www.thebluffsgolf.com/event/new-years-eve-pro-shop-closes-early-at-100pm/
END:VEVENT
END:VCALENDAR